BEGIN:VCALENDAR
VERSION:2.0
PRODID:-//Konfuciova třída - ECPv6.9.0//NONSGML v1.0//EN
CALSCALE:GREGORIAN
METHOD:PUBLISH
X-ORIGINAL-URL:http://konfuciovatridacb.cz
X-WR-CALDESC:Akce na Konfuciova třída
REFRESH-INTERVAL;VALUE=DURATION:PT1H
X-Robots-Tag:noindex
X-PUBLISHED-TTL:PT1H
BEGIN:VTIMEZONE
TZID:UTC
BEGIN:STANDARD
TZOFFSETFROM:+0000
TZOFFSETTO:+0000
TZNAME:UTC
DTSTART:20260101T000000
END:STANDARD
END:VTIMEZONE
BEGIN:VEVENT
DTSTART;TZID=UTC:20260515T160000
DTEND;TZID=UTC:20260515T180000
DTSTAMP:20260419T152349
CREATED:20251215T123709Z
LAST-MODIFIED:20260321T144605Z
UID:4841-1778860800-1778868000@konfuciovatridacb.cz
SUMMARY:Kurz kaligrafie
DESCRIPTION:Na kurzu kaligrafie vás provedu začátky krasopisu\, naučíte se psát tradičním čínským štětcem.  \n		\n					\n						\n					\n			\n						\n				\n							\n			\n			\n			\n\n			\n			\n								\n												\n								Jméno a příjmení							\n														\n											\n								\n												\n								Telefon							\n								\n\n						\n								\n												\n								Email							\n														\n											\n								\n												\n								Datum kurzu							\n						\n		\n						\n								\n												\n								Na jaký kurz se hlásíte?							\n								\n			\n							\n			\n									Čínský workshop výroby knedlíčků\n									Čínské malování\n									Tradiční čínský čajový ceremoniál\n									Kurz kaligrafie\n									Business with China\n									ThaiChi\n									Sushi workshop\n							\n		\n						\n								\n												\n								Kód z dárkového poukazu							\n														\n											\n								\n									\n								\n					\n						\n																						Registrovat
URL:http://konfuciovatridacb.cz/akce/kurz-kaligrafie-10/
CATEGORIES:Kurz kaligrafie
ATTACH;FMTTYPE=image/jpeg:http://konfuciovatridacb.cz/wp-content/uploads/2025/01/asian-woman-practicing-japanese-handwriting-indoors-scaled.jpg
END:VEVENT
BEGIN:VEVENT
DTSTART;TZID=UTC:20260515T160000
DTEND;TZID=UTC:20260515T180000
DTSTAMP:20260419T152350
CREATED:20251215T124505Z
LAST-MODIFIED:20260321T144632Z
UID:4865-1778860800-1778868000@konfuciovatridacb.cz
SUMMARY:Čínské malování
DESCRIPTION:Objevte kouzlo čínského malování! Na kurzu vás provedu základními technikami a naučím vás malovat tradičním čínským štětcem. Společně se ponoříme do světa jemných tahů a elegantních motivů inspirovaných čínskou kulturou\, jako jsou květiny\, krajiny nebo zvířata. Kurz je vhodný i pro začátečníky – stačí chuť tvořit a objevovat něco nového. \n		\n					\n						\n					\n			\n						\n				\n							\n			\n			\n			\n\n			\n			\n								\n												\n								Jméno a příjmení							\n														\n											\n								\n												\n								Telefon							\n								\n\n						\n								\n												\n								Email							\n														\n											\n								\n												\n								Datum kurzu							\n						\n		\n						\n								\n												\n								Na jaký kurz se hlásíte?							\n								\n			\n							\n			\n									Čínský workshop výroby knedlíčků\n									Čínské malování\n									Tradiční čínský čajový ceremoniál\n									Kurz kaligrafie\n									Business with China\n									ThaiChi\n									Sushi workshop\n							\n		\n						\n								\n												\n								Kód z dárkového poukazu							\n														\n											\n								\n									\n								\n					\n						\n																						Registrovat
URL:http://konfuciovatridacb.cz/akce/cinske-malovani-10/
CATEGORIES:Čínské malování
ATTACH;FMTTYPE=image/jpeg:http://konfuciovatridacb.cz/wp-content/uploads/2025/01/new-chinese-style-artistic-conception-abstract-ink-painting-landscape-background-wall-mural-scaled.jpg
END:VEVENT
BEGIN:VEVENT
DTSTART;TZID=UTC:20260515T180000
DTEND;TZID=UTC:20260515T200000
DTSTAMP:20260419T152350
CREATED:20251215T134722Z
LAST-MODIFIED:20260321T144652Z
UID:4890-1778868000-1778875200@konfuciovatridacb.cz
SUMMARY:Tradiční čínský čajový ceremoniál
DESCRIPTION:Vydejte se na cestu za poznáním tradičního čínského čajového ceremoniálu. Společně objevíme tajemství výběru čaje\, jeho přípravy a servírování podle starodávných rituálů.  \n  \n		\n					\n						\n					\n			\n						\n				\n							\n			\n			\n			\n\n			\n			\n								\n												\n								Jméno a příjmení							\n														\n											\n								\n												\n								Telefon							\n								\n\n						\n								\n												\n								Email							\n														\n											\n								\n												\n								Datum kurzu							\n						\n		\n						\n								\n												\n								Na jaký kurz se hlásíte?							\n								\n			\n							\n			\n									Čínský workshop výroby knedlíčků\n									Čínské malování\n									Tradiční čínský čajový ceremoniál\n									Kurz kaligrafie\n									Business with China\n									ThaiChi\n									Sushi workshop\n							\n		\n						\n								\n												\n								Kód z dárkového poukazu							\n														\n											\n								\n									\n								\n					\n						\n																						Registrovat
URL:http://konfuciovatridacb.cz/akce/tradicni-cinsky-cajovy-ceremonial-9/
CATEGORIES:Tradiční čínský čajový ceremoniál
ATTACH;FMTTYPE=image/jpeg:http://konfuciovatridacb.cz/wp-content/uploads/2025/01/young-female-making-traditional-chinese-tea.jpg
END:VEVENT
END:VCALENDAR