BEGIN:VCALENDAR
VERSION:2.0
PRODID:-//Konfuciova třída - ECPv6.9.0//NONSGML v1.0//EN
CALSCALE:GREGORIAN
METHOD:PUBLISH
X-WR-CALNAME:Konfuciova třída
X-ORIGINAL-URL:http://konfuciovatridacb.cz
X-WR-CALDESC:Akce na Konfuciova třída
REFRESH-INTERVAL;VALUE=DURATION:PT1H
X-Robots-Tag:noindex
X-PUBLISHED-TTL:PT1H
BEGIN:VTIMEZONE
TZID:UTC
BEGIN:STANDARD
TZOFFSETFROM:+0000
TZOFFSETTO:+0000
TZNAME:UTC
DTSTART:20260101T000000
END:STANDARD
END:VTIMEZONE
BEGIN:VEVENT
DTSTART;TZID=UTC:20260417T160000
DTEND;TZID=UTC:20260417T180000
DTSTAMP:20260419T201817
CREATED:20251215T122658Z
LAST-MODIFIED:20260321T143525Z
UID:4809-1776441600-1776448800@konfuciovatridacb.cz
SUMMARY:Čínský workshop výroby knedlíčků
DESCRIPTION:Naučte se vyrábět kultovní čínské jídlo knedlíčky! Čínští učitelé vás provedou každým krokem od přípravy knedlíčků a jejich balení. \n		\n					\n						\n					\n			\n						\n				\n							\n			\n			\n			\n\n			\n			\n								\n												\n								Jméno a příjmení							\n														\n											\n								\n												\n								Telefon							\n								\n\n						\n								\n												\n								Email							\n														\n											\n								\n												\n								Datum kurzu							\n						\n		\n						\n								\n												\n								Na jaký kurz se hlásíte?							\n								\n			\n							\n			\n									Čínský workshop výroby knedlíčků\n									Čínské malování\n									Tradiční čínský čajový ceremoniál\n									Kurz kaligrafie\n									Business with China\n									ThaiChi\n									Sushi workshop\n							\n		\n						\n								\n												\n								Kód z dárkového poukazu							\n														\n											\n								\n									\n								\n					\n						\n																						Registrovat
URL:http://konfuciovatridacb.cz/akce/cinsky-workshop-vyroby-knedlicku-6/
CATEGORIES:Čínský workshop výroby knedlíčků
ATTACH;FMTTYPE=image/jpeg:http://konfuciovatridacb.cz/wp-content/uploads/2025/01/dumplings2.jpg
END:VEVENT
BEGIN:VEVENT
DTSTART;TZID=UTC:20260424T160000
DTEND;TZID=UTC:20260424T180000
DTSTAMP:20260419T201818
CREATED:20251215T122831Z
LAST-MODIFIED:20260321T143828Z
UID:4813-1777046400-1777053600@konfuciovatridacb.cz
SUMMARY:Čínský workshop výroby knedlíčků
DESCRIPTION:Naučte se vyrábět kultovní čínské jídlo knedlíčky! Čínští učitelé vás provedou každým krokem od přípravy knedlíčků a jejich balení. \n		\n					\n						\n					\n			\n						\n				\n							\n			\n			\n			\n\n			\n			\n								\n												\n								Jméno a příjmení							\n														\n											\n								\n												\n								Telefon							\n								\n\n						\n								\n												\n								Email							\n														\n											\n								\n												\n								Datum kurzu							\n						\n		\n						\n								\n												\n								Na jaký kurz se hlásíte?							\n								\n			\n							\n			\n									Čínský workshop výroby knedlíčků\n									Čínské malování\n									Tradiční čínský čajový ceremoniál\n									Kurz kaligrafie\n									Business with China\n									ThaiChi\n									Sushi workshop\n							\n		\n						\n								\n												\n								Kód z dárkového poukazu							\n														\n											\n								\n									\n								\n					\n						\n																						Registrovat
URL:http://konfuciovatridacb.cz/akce/cinsky-workshop-vyroby-knedlicku-8/
CATEGORIES:Čínský workshop výroby knedlíčků
ATTACH;FMTTYPE=image/jpeg:http://konfuciovatridacb.cz/wp-content/uploads/2025/01/dumplings2.jpg
END:VEVENT
BEGIN:VEVENT
DTSTART;TZID=UTC:20260501T160000
DTEND;TZID=UTC:20260501T180000
DTSTAMP:20260419T201818
CREATED:20251215T122741Z
LAST-MODIFIED:20260321T144050Z
UID:4811-1777651200-1777658400@konfuciovatridacb.cz
SUMMARY:Čínský workshop výroby knedlíčků
DESCRIPTION:Naučte se vyrábět kultovní čínské jídlo knedlíčky! Čínští učitelé vás provedou každým krokem od přípravy knedlíčků a jejich balení. \n		\n					\n						\n					\n			\n						\n				\n							\n			\n			\n			\n\n			\n			\n								\n												\n								Jméno a příjmení							\n														\n											\n								\n												\n								Telefon							\n								\n\n						\n								\n												\n								Email							\n														\n											\n								\n												\n								Datum kurzu							\n						\n		\n						\n								\n												\n								Na jaký kurz se hlásíte?							\n								\n			\n							\n			\n									Čínský workshop výroby knedlíčků\n									Čínské malování\n									Tradiční čínský čajový ceremoniál\n									Kurz kaligrafie\n									Business with China\n									ThaiChi\n									Sushi workshop\n							\n		\n						\n								\n												\n								Kód z dárkového poukazu							\n														\n											\n								\n									\n								\n					\n						\n																						Registrovat
URL:http://konfuciovatridacb.cz/akce/cinsky-workshop-vyroby-knedlicku-7/
CATEGORIES:Čínský workshop výroby knedlíčků
ATTACH;FMTTYPE=image/jpeg:http://konfuciovatridacb.cz/wp-content/uploads/2025/01/dumplings2.jpg
END:VEVENT
BEGIN:VEVENT
DTSTART;TZID=UTC:20260508T160000
DTEND;TZID=UTC:20260508T180000
DTSTAMP:20260419T201818
CREATED:20251215T122906Z
LAST-MODIFIED:20260321T144305Z
UID:4815-1778256000-1778263200@konfuciovatridacb.cz
SUMMARY:Čínský workshop výroby knedlíčků
DESCRIPTION:Naučte se vyrábět kultovní čínské jídlo knedlíčky! Čínští učitelé vás provedou každým krokem od přípravy knedlíčků a jejich balení. \n		\n					\n						\n					\n			\n						\n				\n							\n			\n			\n			\n\n			\n			\n								\n												\n								Jméno a příjmení							\n														\n											\n								\n												\n								Telefon							\n								\n\n						\n								\n												\n								Email							\n														\n											\n								\n												\n								Datum kurzu							\n						\n		\n						\n								\n												\n								Na jaký kurz se hlásíte?							\n								\n			\n							\n			\n									Čínský workshop výroby knedlíčků\n									Čínské malování\n									Tradiční čínský čajový ceremoniál\n									Kurz kaligrafie\n									Business with China\n									ThaiChi\n									Sushi workshop\n							\n		\n						\n								\n												\n								Kód z dárkového poukazu							\n														\n											\n								\n									\n								\n					\n						\n																						Registrovat
URL:http://konfuciovatridacb.cz/akce/cinsky-workshop-vyroby-knedlicku-9/
CATEGORIES:Čínský workshop výroby knedlíčků
ATTACH;FMTTYPE=image/jpeg:http://konfuciovatridacb.cz/wp-content/uploads/2025/01/dumplings2.jpg
END:VEVENT
BEGIN:VEVENT
DTSTART;TZID=UTC:20260516T160000
DTEND;TZID=UTC:20260516T180000
DTSTAMP:20260419T201818
CREATED:20251215T122953Z
LAST-MODIFIED:20260321T144536Z
UID:4817-1778947200-1778954400@konfuciovatridacb.cz
SUMMARY:Čínský workshop výroby knedlíčků
DESCRIPTION:Naučte se vyrábět kultovní čínské jídlo knedlíčky! Čínští učitelé vás provedou každým krokem od přípravy knedlíčků a jejich balení. \n		\n					\n						\n					\n			\n						\n				\n							\n			\n			\n			\n\n			\n			\n								\n												\n								Jméno a příjmení							\n														\n											\n								\n												\n								Telefon							\n								\n\n						\n								\n												\n								Email							\n														\n											\n								\n												\n								Datum kurzu							\n						\n		\n						\n								\n												\n								Na jaký kurz se hlásíte?							\n								\n			\n							\n			\n									Čínský workshop výroby knedlíčků\n									Čínské malování\n									Tradiční čínský čajový ceremoniál\n									Kurz kaligrafie\n									Business with China\n									ThaiChi\n									Sushi workshop\n							\n		\n						\n								\n												\n								Kód z dárkového poukazu							\n														\n											\n								\n									\n								\n					\n						\n																						Registrovat
URL:http://konfuciovatridacb.cz/akce/cinsky-workshop-vyroby-knedlicku-10/
CATEGORIES:Čínský workshop výroby knedlíčků
ATTACH;FMTTYPE=image/jpeg:http://konfuciovatridacb.cz/wp-content/uploads/2025/01/dumplings2.jpg
END:VEVENT
BEGIN:VEVENT
DTSTART;TZID=UTC:20260522T160000
DTEND;TZID=UTC:20260522T180000
DTSTAMP:20260419T201818
CREATED:20251215T123029Z
LAST-MODIFIED:20260321T144724Z
UID:4819-1779465600-1779472800@konfuciovatridacb.cz
SUMMARY:Čínský workshop výroby knedlíčků
DESCRIPTION:Naučte se vyrábět kultovní čínské jídlo knedlíčky! Čínští učitelé vás provedou každým krokem od přípravy knedlíčků a jejich balení. \n		\n					\n						\n					\n			\n						\n				\n							\n			\n			\n			\n\n			\n			\n								\n												\n								Jméno a příjmení							\n														\n											\n								\n												\n								Telefon							\n								\n\n						\n								\n												\n								Email							\n														\n											\n								\n												\n								Datum kurzu							\n						\n		\n						\n								\n												\n								Na jaký kurz se hlásíte?							\n								\n			\n							\n			\n									Čínský workshop výroby knedlíčků\n									Čínské malování\n									Tradiční čínský čajový ceremoniál\n									Kurz kaligrafie\n									Business with China\n									ThaiChi\n									Sushi workshop\n							\n		\n						\n								\n												\n								Kód z dárkového poukazu							\n														\n											\n								\n									\n								\n					\n						\n																						Registrovat
URL:http://konfuciovatridacb.cz/akce/cinsky-workshop-vyroby-knedlicku-11/
CATEGORIES:Čínský workshop výroby knedlíčků
ATTACH;FMTTYPE=image/jpeg:http://konfuciovatridacb.cz/wp-content/uploads/2025/01/dumplings2.jpg
END:VEVENT
BEGIN:VEVENT
DTSTART;TZID=UTC:20260529T160000
DTEND;TZID=UTC:20260529T180000
DTSTAMP:20260419T201818
CREATED:20251215T123105Z
LAST-MODIFIED:20260321T145258Z
UID:4821-1780070400-1780077600@konfuciovatridacb.cz
SUMMARY:Čínský workshop výroby knedlíčků
DESCRIPTION:Naučte se vyrábět kultovní čínské jídlo knedlíčky! Čínští učitelé vás provedou každým krokem od přípravy knedlíčků a jejich balení. \n		\n					\n						\n					\n			\n						\n				\n							\n			\n			\n			\n\n			\n			\n								\n												\n								Jméno a příjmení							\n														\n											\n								\n												\n								Telefon							\n								\n\n						\n								\n												\n								Email							\n														\n											\n								\n												\n								Datum kurzu							\n						\n		\n						\n								\n												\n								Na jaký kurz se hlásíte?							\n								\n			\n							\n			\n									Čínský workshop výroby knedlíčků\n									Čínské malování\n									Tradiční čínský čajový ceremoniál\n									Kurz kaligrafie\n									Business with China\n									ThaiChi\n									Sushi workshop\n							\n		\n						\n								\n												\n								Kód z dárkového poukazu							\n														\n											\n								\n									\n								\n					\n						\n																						Registrovat
URL:http://konfuciovatridacb.cz/akce/cinsky-workshop-vyroby-knedlicku-12-2/
CATEGORIES:Čínský workshop výroby knedlíčků
ATTACH;FMTTYPE=image/jpeg:http://konfuciovatridacb.cz/wp-content/uploads/2025/01/dumplings2.jpg
END:VEVENT
END:VCALENDAR